BEGIN:VCALENDAR
VERSION:2.0
PRODID:-//webforJ - ECPv6.15.16//NONSGML v1.0//EN
CALSCALE:GREGORIAN
METHOD:PUBLISH
X-ORIGINAL-URL:https://webforj.de
X-WR-CALDESC:Veranstaltungen für webforJ
REFRESH-INTERVAL;VALUE=DURATION:PT1H
X-Robots-Tag:noindex
X-PUBLISHED-TTL:PT1H
BEGIN:VTIMEZONE
TZID:Europe/Paris
BEGIN:DAYLIGHT
TZOFFSETFROM:+0100
TZOFFSETTO:+0200
TZNAME:CEST
DTSTART:20240331T010000
END:DAYLIGHT
BEGIN:STANDARD
TZOFFSETFROM:+0200
TZOFFSETTO:+0100
TZNAME:CET
DTSTART:20241027T010000
END:STANDARD
BEGIN:DAYLIGHT
TZOFFSETFROM:+0100
TZOFFSETTO:+0200
TZNAME:CEST
DTSTART:20250330T010000
END:DAYLIGHT
BEGIN:STANDARD
TZOFFSETFROM:+0200
TZOFFSETTO:+0100
TZNAME:CET
DTSTART:20251026T010000
END:STANDARD
BEGIN:DAYLIGHT
TZOFFSETFROM:+0100
TZOFFSETTO:+0200
TZNAME:CEST
DTSTART:20260329T010000
END:DAYLIGHT
BEGIN:STANDARD
TZOFFSETFROM:+0200
TZOFFSETTO:+0100
TZNAME:CET
DTSTART:20261025T010000
END:STANDARD
END:VTIMEZONE
BEGIN:VEVENT
DTSTART;VALUE=DATE:20250201
DTEND;VALUE=DATE:20250416
DTSTAMP:20260415T095212
CREATED:20250129T085723Z
LAST-MODIFIED:20250320T094629Z
UID:2853-1738368000-1744761599@webforj.de
SUMMARY:#builtwithwebforJ
DESCRIPTION:#builtwithwebforj – Erstelle moderne Web-Apps in Java mit webforJ und gewinne epische Preise!\nReiche dein Projekt ein und sichere dir einen Platz in den Top 10\, um Technikpreise zu gewinnen – darunter ein MacBook Pro für den Gewinner! \nBist du bereit\, deine Java-Web-App zu präsentieren?
URL:https://webforj.de/event/builtwithwebforj/
LOCATION:Online
ATTACH;FMTTYPE=image/png:https://webforj.de/wp-content/uploads/2025/01/Group-111-1.png
END:VEVENT
BEGIN:VEVENT
DTSTART;VALUE=DATE:20250304
DTEND;VALUE=DATE:20250307
DTSTAMP:20260415T095212
CREATED:20250115T094817Z
LAST-MODIFIED:20250115T094817Z
UID:2836-1741046400-1741305599@webforj.de
SUMMARY:Devnexus Atlanta
DESCRIPTION:The webforJ team will proudly attend Devnexus 2025\, the world’s largest Java Ecosystem Conference\, to celebrate Java’s 30th anniversary. \n  \nJoin us in Atlanta from March 4-6\, 2025\, for three days of inspiring sessions\, hands-on workshops\, and networking with 160+ speakers and leading sponsors. \n  \nLet’s explore the future of Java together!
URL:https://webforj.de/event/devnexus/
LOCATION:Devnexus\, Georgia World Congress Center | 285 Andrew Young International Blvd NW\, Atlanta\, GA 30303 | 404-223-4000
ATTACH;FMTTYPE=image/webp:https://webforj.de/wp-content/uploads/2025/01/devnexus-reflections_blog-index.webp
END:VEVENT
BEGIN:VEVENT
DTSTART;VALUE=DATE:20250318
DTEND;VALUE=DATE:20250321
DTSTAMP:20260415T095212
CREATED:20250115T095211Z
LAST-MODIFIED:20250320T094749Z
UID:2841-1742256000-1742515199@webforj.de
SUMMARY:Java One
DESCRIPTION:Das webforJ-Team ist auf der JavaOne 2025 in Redwood Shores\, CA – vom 18. bis 20. März 2025! \n  \nAls führende Entwicklerkonferenz bietet die JavaOne erstklassige Fachsessions\, inspirierende Keynotes und die Möglichkeit\, sich mit der globalen Java-Community zu vernetzen. \n  \n✨ Sei dabei\, um die Magie von Java zu feiern\, Ideen auszutauschen und unvergessliche Momente auf diesem ikonischen Event von Oracles Java-Organisation zu erleben!
URL:https://webforj.de/event/java-one/
LOCATION:Java One\, Redwood Shores\, CA
ATTACH;FMTTYPE=image/png:https://webforj.de/wp-content/uploads/2025/01/GgI8sLiXIAIvcCW.png
END:VEVENT
END:VCALENDAR