BEGIN:VCALENDAR
VERSION:2.0
PRODID:-//webforJ - ECPv6.15.16//NONSGML v1.0//EN
CALSCALE:GREGORIAN
METHOD:PUBLISH
X-WR-CALNAME:webforJ
X-ORIGINAL-URL:https://webforj.de
X-WR-CALDESC:Veranstaltungen für webforJ
REFRESH-INTERVAL;VALUE=DURATION:PT1H
X-Robots-Tag:noindex
X-PUBLISHED-TTL:PT1H
BEGIN:VTIMEZONE
TZID:Europe/Paris
BEGIN:DAYLIGHT
TZOFFSETFROM:+0100
TZOFFSETTO:+0200
TZNAME:CEST
DTSTART:20240331T010000
END:DAYLIGHT
BEGIN:STANDARD
TZOFFSETFROM:+0200
TZOFFSETTO:+0100
TZNAME:CET
DTSTART:20241027T010000
END:STANDARD
BEGIN:DAYLIGHT
TZOFFSETFROM:+0100
TZOFFSETTO:+0200
TZNAME:CEST
DTSTART:20250330T010000
END:DAYLIGHT
BEGIN:STANDARD
TZOFFSETFROM:+0200
TZOFFSETTO:+0100
TZNAME:CET
DTSTART:20251026T010000
END:STANDARD
BEGIN:DAYLIGHT
TZOFFSETFROM:+0100
TZOFFSETTO:+0200
TZNAME:CEST
DTSTART:20260329T010000
END:DAYLIGHT
BEGIN:STANDARD
TZOFFSETFROM:+0200
TZOFFSETTO:+0100
TZNAME:CET
DTSTART:20261025T010000
END:STANDARD
END:VTIMEZONE
BEGIN:VEVENT
DTSTART;VALUE=DATE:20250710
DTEND;VALUE=DATE:20250711
DTSTAMP:20260421T005114
CREATED:20250331T082830Z
LAST-MODIFIED:20250331T082830Z
UID:3035-1752105600-1752191999@webforj.de
SUMMARY:Java Forum Stuttgart 2025
DESCRIPTION:Trefft uns beim Java Forum Stuttgart!Am 10. Juli sind wir als Aussteller beim Java Forum Stuttgart dabei. Dort zeigen wir\, wie Unternehmen mit webforJ ihre bestehenden Java-Anwendungen in moderne\, skalierbare Weblösungen verwandeln – ganz ohne Technologiebruch oder zusätzliches Frontend-Team. Wenn ihr wissen wollt\, wie zukunftssichere Java-Modernisierung heute aussieht: Kommt vorbei und sprecht mit uns!
URL:https://webforj.de/event/java-forum-stuttgart-2025/
LOCATION:Java Forum Stuttgart\, Kultur- & Kongresszentrum Liederhalle (KKL) Berliner Platz 1-3 70174 Stuttgart
ATTACH;FMTTYPE=image/png:https://webforj.de/wp-content/uploads/2025/03/Cover.png
END:VEVENT
END:VCALENDAR