BEGIN:VCALENDAR
VERSION:2.0
PRODID:-//webforJ - ECPv6.15.16//NONSGML v1.0//EN
CALSCALE:GREGORIAN
METHOD:PUBLISH
X-WR-CALNAME:webforJ
X-ORIGINAL-URL:https://webforj.de
X-WR-CALDESC:Veranstaltungen für webforJ
REFRESH-INTERVAL;VALUE=DURATION:PT1H
X-Robots-Tag:noindex
X-PUBLISHED-TTL:PT1H
BEGIN:VTIMEZONE
TZID:Europe/Paris
BEGIN:DAYLIGHT
TZOFFSETFROM:+0100
TZOFFSETTO:+0200
TZNAME:CEST
DTSTART:20250330T010000
END:DAYLIGHT
BEGIN:STANDARD
TZOFFSETFROM:+0200
TZOFFSETTO:+0100
TZNAME:CET
DTSTART:20251026T010000
END:STANDARD
BEGIN:DAYLIGHT
TZOFFSETFROM:+0100
TZOFFSETTO:+0200
TZNAME:CEST
DTSTART:20260329T010000
END:DAYLIGHT
BEGIN:STANDARD
TZOFFSETFROM:+0200
TZOFFSETTO:+0100
TZNAME:CET
DTSTART:20261025T010000
END:STANDARD
BEGIN:DAYLIGHT
TZOFFSETFROM:+0100
TZOFFSETTO:+0200
TZNAME:CEST
DTSTART:20270328T010000
END:DAYLIGHT
BEGIN:STANDARD
TZOFFSETFROM:+0200
TZOFFSETTO:+0100
TZNAME:CET
DTSTART:20271031T010000
END:STANDARD
END:VTIMEZONE
BEGIN:VEVENT
DTSTART;TZID=Europe/Paris:20260127T110000
DTEND;TZID=Europe/Paris:20260127T114500
DTSTAMP:20260420T183528
CREATED:20251211T105349Z
LAST-MODIFIED:20251211T105349Z
UID:3269-1769511600-1769514300@webforj.de
SUMMARY:Webinar: Risikofreie Schritt-für-Schritt-Modernisierung von COBOL- und Java-Legacy-Systemen – Utopie oder Realität?
DESCRIPTION:Wir zeigen Ihnen gemeinsam mit unserem Partner EasiRun\, wie bestehende Legacy-Systeme sicher\, schrittweise und planbar modernisiert werden können\, ohne dass bestehende Geschäftsprozesse gestört werden. \nSie erfahren:\n ✔ Praktische Vorgehensweisen für COBOL- und Java-Legacy-Systeme\n ✔ Wie Schritt-für-Schritt-Modernisierung Risiken minimiert\n ✔ Beispiele für realistische Umsetzungsmöglichkeiten
URL:https://webforj.de/event/webinar-risikofreie-schritt-fuer-schritt-modernisierung-von-cobol-und-java-legacy-systemen-utopie-oder-realitaet/
ATTACH;FMTTYPE=image/png:https://webforj.de/wp-content/uploads/2025/12/easirun-webforj-1.png
END:VEVENT
END:VCALENDAR