BEGIN:VCALENDAR
VERSION:2.0
PRODID:-//webforJ - ECPv6.15.16//NONSGML v1.0//EN
CALSCALE:GREGORIAN
METHOD:PUBLISH
X-WR-CALNAME:webforJ
X-ORIGINAL-URL:https://webforj.de
X-WR-CALDESC:Veranstaltungen für webforJ
REFRESH-INTERVAL;VALUE=DURATION:PT1H
X-Robots-Tag:noindex
X-PUBLISHED-TTL:PT1H
BEGIN:VTIMEZONE
TZID:Europe/Paris
BEGIN:DAYLIGHT
TZOFFSETFROM:+0100
TZOFFSETTO:+0200
TZNAME:CEST
DTSTART:20240331T010000
END:DAYLIGHT
BEGIN:STANDARD
TZOFFSETFROM:+0200
TZOFFSETTO:+0100
TZNAME:CET
DTSTART:20241027T010000
END:STANDARD
BEGIN:DAYLIGHT
TZOFFSETFROM:+0100
TZOFFSETTO:+0200
TZNAME:CEST
DTSTART:20250330T010000
END:DAYLIGHT
BEGIN:STANDARD
TZOFFSETFROM:+0200
TZOFFSETTO:+0100
TZNAME:CET
DTSTART:20251026T010000
END:STANDARD
BEGIN:DAYLIGHT
TZOFFSETFROM:+0100
TZOFFSETTO:+0200
TZNAME:CEST
DTSTART:20260329T010000
END:DAYLIGHT
BEGIN:STANDARD
TZOFFSETFROM:+0200
TZOFFSETTO:+0100
TZNAME:CET
DTSTART:20261025T010000
END:STANDARD
END:VTIMEZONE
BEGIN:VEVENT
DTSTART;VALUE=DATE:20251013
DTEND;VALUE=DATE:20251017
DTSTAMP:20260419T064049
CREATED:20250909T094517Z
LAST-MODIFIED:20250909T094607Z
UID:3220-1760313600-1760659199@webforj.de
SUMMARY:Oracle AI World 2025
DESCRIPTION:webforJ ist auf der Oracle AI World 2025! \nWir freuen uns\, Teil der Veranstaltung zu sein und darauf\, uns mit Entwicklern\, Innovatoren und Technologieexperten auszutauschen. \n \nWenn Sie vor Ort sind\, kommen Sie gerne vorbei – wir freuen uns auf das Gespräch über webforJ und den Austausch zu modernen Webanwendungen mit Java.
URL:https://webforj.de/event/oracle-ai-world-2025/
LOCATION:Venetian Conference and Expo Center in Las Vegas\, Nevada\, Venetian Conference and Expo Center in Las Vegas\, Nevada
ATTACH;FMTTYPE=image/webp:https://webforj.de/wp-content/uploads/2025/09/og-social-oracle-ai-world.webp
END:VEVENT
END:VCALENDAR